BEGIN:VCALENDAR
VERSION:2.0
PRODID:-//hacksw/handcal//NONSGML v1.0//EN
CALSCALE:GREGORIAN
BEGIN:VEVENT
SUMMARY:"Associati per Associati": incontro "Investigazioni a tutela del patrimonio aziendale"
DESCRIPTION:Dettagli: https://www.confindustriaemilia.it/flex/cm/pages/ServeBLOB.php/L/IT/IDPagina/96964
LOCATION:Webinar Teams - piattaforma - Microsoft Teams
DTSTART:20211130T150000Z
DTEND:20211130T163000Z
DTSTAMP:20260424T172202Z
UID:69eba6ba4ff05
END:VEVENT
END:VCALENDAR