BEGIN:VCALENDAR
VERSION:2.0
PRODID:-//hacksw/handcal//NONSGML v1.0//EN
CALSCALE:GREGORIAN
BEGIN:VEVENT
SUMMARY:"Associati per Associati": incontro "Lavaggio pezzi e componenti: una leva strategica per il lean thinking"
DESCRIPTION:Dettagli: https://www.confindustriaemilia.it/flex/cm/pages/ServeBLOB.php/L/IT/IDPagina/101917
LOCATION:Webinar -  - 
DTSTART:20230612T143000Z
DTEND:20230612T153000Z
DTSTAMP:20260421T213638Z
UID:69e7ede688980
END:VEVENT
END:VCALENDAR