BEGIN:VCALENDAR
VERSION:2.0
PRODID:-//hacksw/handcal//NONSGML v1.0//EN
CALSCALE:GREGORIAN
BEGIN:VEVENT
SUMMARY:Associati per Associati CRIT - Webinar "Materie Prime Critiche: ripensare prodotti e filiere per ridurre il rischio"
DESCRIPTION:Dettagli: https://www.confindustriaemilia.it/flex/cm/pages/ServeBLOB.php/L/IT/IDPagina/108821
LOCATION:Webinar Teams - piattaforma - Microsoft Teams
DTSTART:20251104T140000Z
DTEND:20251104T150000Z
DTSTAMP:20260422T122424Z
UID:69e8bdf896142
END:VEVENT
END:VCALENDAR