BEGIN:VCALENDAR
VERSION:2.0
PRODID:-//hacksw/handcal//NONSGML v1.0//EN
CALSCALE:GREGORIAN
BEGIN:VEVENT
SUMMARY:Made in Italy - Factory Tour in IM.VA Srl
DESCRIPTION:Dettagli: https://www.confindustriaemilia.it/flex/cm/pages/ServeBLOB.php/L/IT/IDPagina/107125
LOCATION:IM.VA Srl - Via Caduti sul Lavoro 11 - San Prospero (MO)
DTSTART:20250416T130000Z
DTEND:20250416T163000Z
DTSTAMP:20260421T084021Z
UID:69e737f51698e
END:VEVENT
END:VCALENDAR