BEGIN:VCALENDAR
VERSION:2.0
PRODID:-//hacksw/handcal//NONSGML v1.0//EN
CALSCALE:GREGORIAN
BEGIN:VEVENT
SUMMARY:"Associati per Associati": incontro "Come valorizzare le prestazioni e le competenze aziendali dandone visibilità al mercato"
DESCRIPTION:Dettagli: https://www.confindustriaemilia.it/flex/cm/pages/ServeBLOB.php/L/IT/IDPagina/101942
LOCATION:Webinar -  - 
DTSTART:20230614T090000Z
DTEND:20230614T103000Z
DTSTAMP:20260421T210955Z
UID:69e7e7a3a803a
END:VEVENT
END:VCALENDAR