BEGIN:VCALENDAR
VERSION:2.0
PRODID:-//hacksw/handcal//NONSGML v1.0//EN
CALSCALE:GREGORIAN
BEGIN:VEVENT
SUMMARY:"Associati per Associati": Open Day presso la Lean Factory School®\, la scuola di formazione di Bonfiglioli Consulting per trasformare la conoscenza
DESCRIPTION:Dettagli: https://www.confindustriaemilia.it/flex/cm/pages/ServeBLOB.php/L/IT/IDPagina/103819
LOCATION:Lean Factory School - Via della Solidarietà 1 - Crespellano (Bo)
DTSTART:20240228T083000Z
DTEND:20240228T113000Z
DTSTAMP:20260420T182604Z
UID:69e66fbc88804
END:VEVENT
END:VCALENDAR