BEGIN:VCALENDAR
VERSION:2.0
PRODID:-//hacksw/handcal//NONSGML v1.0//EN
CALSCALE:GREGORIAN
BEGIN:VEVENT
SUMMARY:Associati per Associati  - Webinar MAKE IT "Via dal Cobol con l'AI: un nuovo approccio alla modernizzazione dei sistemi legacy"
DESCRIPTION:Dettagli: https://www.confindustriaemilia.it/flex/cm/pages/ServeBLOB.php/L/IT/IDPagina/110537
LOCATION:WEBINAR - Google Meet - 
DTSTART:20260512T093000Z
DTEND:20260512T103000Z
DTSTAMP:20260421T162755Z
UID:69e7a58b0c563
END:VEVENT
END:VCALENDAR