BEGIN:VCALENDAR
VERSION:2.0
PRODID:-//hacksw/handcal//NONSGML v1.0//EN
CALSCALE:GREGORIAN
BEGIN:VEVENT
SUMMARY:Associati per Associati - Webinar: "LA RISTORAZIONE COME  STRUMENTO DI WELFARE  AZIENDALE"
DESCRIPTION:Dettagli: https://www.confindustriaemilia.it/flex/cm/pages/ServeBLOB.php/L/IT/IDPagina/105059
LOCATION:Webinar Teams - piattaforma - Microsoft Teams
DTSTART:20240627T123000Z
DTEND:20240627T133000Z
DTSTAMP:20260420T222406Z
UID:69e6a7864a1ea
END:VEVENT
END:VCALENDAR