BEGIN:VCALENDAR
VERSION:2.0
PRODID:-//hacksw/handcal//NONSGML v1.0//EN
CALSCALE:GREGORIAN
BEGIN:VEVENT
SUMMARY:FAST STARTUP ROADSHOW #3: Economia Circolare\, 19 maggio 2021 h 16
DESCRIPTION:Dettagli: https://www.confindustriaemilia.it/flex/cm/pages/ServeBLOB.php/L/IT/IDPagina/95298
LOCATION:Webinar -  - 
DTSTART:20210519T140000Z
DTEND:20210519T150000Z
DTSTAMP:20260420T002757Z
UID:69e5730d4a54f
END:VEVENT
END:VCALENDAR