BEGIN:VCALENDAR
VERSION:2.0
PRODID:-//hacksw/handcal//NONSGML v1.0//EN
CALSCALE:GREGORIAN
BEGIN:VEVENT
SUMMARY:"Associati per Associati": incontro "Doorway Digital Investor Day"
DESCRIPTION:Dettagli: https://www.confindustriaemilia.it/flex/cm/pages/ServeBLOB.php/L/IT/IDPagina/93875
LOCATION:Webinar -  - 
DTSTART:20201112T160000Z
DTEND:20201112T173000Z
DTSTAMP:20260420T191131Z
UID:69e67a6397a0d
END:VEVENT
END:VCALENDAR