BEGIN:VCALENDAR
VERSION:2.0
PRODID:-//hacksw/handcal//NONSGML v1.0//EN
CALSCALE:GREGORIAN
BEGIN:VEVENT
SUMMARY:PREMIO ESTENSE 2023: conferenza stampa di presentazione della quartina finalista e del vincitore del Riconoscimento Gianni Granzotto
DESCRIPTION:Dettagli: https://www.confindustriaemilia.it/flex/cm/pages/ServeBLOB.php/L/IT/IDPagina/101821
LOCATION:Confindustria Emilia Area Centro - Sede di Ferrara - via Montebello 33 - Ferrara
DTSTART:20230524T103000Z
DTEND:20230524T113000Z
DTSTAMP:20260422T010127Z
UID:69e81de7dc9c2
END:VEVENT
END:VCALENDAR