BEGIN:VCALENDAR
VERSION:2.0
PRODID:-//hacksw/handcal//NONSGML v1.0//EN
CALSCALE:GREGORIAN
BEGIN:VEVENT
SUMMARY:Associati per Associati - Incontro "Approccio Human Centric anche nel welfare aziendale: un vantaggio per impresa e dipendente"
DESCRIPTION:Dettagli: https://www.confindustriaemilia.it/flex/cm/pages/ServeBLOB.php/L/IT/IDPagina/105956
LOCATION:Auditorium Techboard Group - Via della Scienza 50 - Modena
DTSTART:20241031T093000Z
DTEND:20241031T114500Z
DTSTAMP:20260420T224317Z
UID:69e6ac0522e42
END:VEVENT
END:VCALENDAR