BEGIN:VCALENDAR
VERSION:2.0
PRODID:-//hacksw/handcal//NONSGML v1.0//EN
CALSCALE:GREGORIAN
BEGIN:VEVENT
SUMMARY:Workshop FARETE: Cautele nella ricerca di fornitori in Cina
DESCRIPTION:Dettagli: https://www.confindustriaemilia.it/flex/cm/pages/ServeBLOB.php/L/IT/IDPagina/105612
LOCATION:Farete - BolognaFiere - ingresso Nord - Bologna
DTSTART:20240905T073000Z
DTEND:20240905T083000Z
DTSTAMP:20260420T204649Z
UID:69e690b95a7c8
END:VEVENT
END:VCALENDAR