BEGIN:VCALENDAR
VERSION:2.0
PRODID:-//hacksw/handcal//NONSGML v1.0//EN
CALSCALE:GREGORIAN
BEGIN:VEVENT
SUMMARY:Made in Italy - Evento "Il ritmo del progresso batte più forte delle differenze. Sostenibilità economica e inclusività”
DESCRIPTION:Dettagli: https://www.confindustriaemilia.it/flex/cm/pages/ServeBLOB.php/L/IT/IDPagina/104487
LOCATION:La Stazione Rulli Frulli - Viale Stazione N. 2 - Finale Emilia (MO)
DTSTART:20241003T140000Z
DTEND:20241003T170000Z
DTSTAMP:20260420T202007Z
UID:69e68a77f1a99
END:VEVENT
END:VCALENDAR