BEGIN:VCALENDAR
VERSION:2.0
PRODID:-//hacksw/handcal//NONSGML v1.0//EN
CALSCALE:GREGORIAN
BEGIN:VEVENT
SUMMARY:Corso di inglese giuridico dedicato agli iscritti al  Club Legal Counsel di Confindustria Emilia
DESCRIPTION:Dettagli: https://www.confindustriaemilia.it/flex/cm/pages/ServeBLOB.php/L/IT/IDPagina/93625
LOCATION:Webinar -  - 
DTSTART:20201021T123000Z
DTEND:20201021T140000Z
DTSTAMP:20260420T064754Z
UID:69e5cc1a1ea98
END:VEVENT
END:VCALENDAR