BEGIN:VCALENDAR
VERSION:2.0
PRODID:-//hacksw/handcal//NONSGML v1.0//EN
CALSCALE:GREGORIAN
BEGIN:VEVENT
SUMMARY:"Associati per Associati": incontro "Come mantenere il distanziamento sociale. Obblighi ed adempimenti per proteggere aziende e lavoratori ai tempi del Coronavirus"
DESCRIPTION:Dettagli: https://www.confindustriaemilia.it/flex/cm/pages/ServeBLOB.php/L/IT/IDPagina/92570
LOCATION:Webinar -  - 
DTSTART:20200528T090000Z
DTEND:20200528T100000Z
DTSTAMP:20260420T002710Z
UID:69e572de10129
END:VEVENT
END:VCALENDAR