BEGIN:VCALENDAR
VERSION:2.0
PRODID:-//hacksw/handcal//NONSGML v1.0//EN
CALSCALE:GREGORIAN
BEGIN:VEVENT
SUMMARY:"Associati per Associati": incontro "POWER AND CONTROL: organizzare digitalmente tutto l'ambiente di produzione\, trasformando i dati in valore"
DESCRIPTION:Dettagli: https://www.confindustriaemilia.it/flex/cm/pages/ServeBLOB.php/L/IT/IDPagina/98570
LOCATION:Webinar -  - 
DTSTART:20220511T130000Z
DTEND:20220511T143000Z
DTSTAMP:20260421T084019Z
UID:69e737f31678c
END:VEVENT
END:VCALENDAR