BEGIN:VCALENDAR
VERSION:2.0
PRODID:-//hacksw/handcal//NONSGML v1.0//EN
CALSCALE:GREGORIAN
BEGIN:VEVENT
SUMMARY:Associati per Associati - Webinar "Aggiornamenti di sostenibilità per le Pmi. Ma non solo per le Pmi!"
DESCRIPTION:Dettagli: https://www.confindustriaemilia.it/flex/cm/pages/ServeBLOB.php/L/IT/IDPagina/106047
LOCATION:Webinar Zoom - piattaforma - Zoom
DTSTART:20241120T133000Z
DTEND:20241120T160000Z
DTSTAMP:20260420T202039Z
UID:69e68a9772673
END:VEVENT
END:VCALENDAR