BEGIN:VCALENDAR
VERSION:2.0
PRODID:-//hacksw/handcal//NONSGML v1.0//EN
CALSCALE:GREGORIAN
BEGIN:VEVENT
SUMMARY:Workshop FARETE : “What is needed to do business with The Home Depot.”
DESCRIPTION:Dettagli: https://www.confindustriaemilia.it/flex/cm/pages/ServeBLOB.php/L/IT/IDPagina/105464
LOCATION:Farete - BolognaFiere - ingresso Nord - Bologna
DTSTART:20240904T153000Z
DTEND:20240904T163000Z
DTSTAMP:20260420T204814Z
UID:69e6910e81b61
END:VEVENT
END:VCALENDAR