BEGIN:VCALENDAR
VERSION:2.0
PRODID:-//hacksw/handcal//NONSGML v1.0//EN
CALSCALE:GREGORIAN
BEGIN:VEVENT
SUMMARY:"Associati per Associati": incontro "DIGITAL EVENTS REVOLUTION. Organizza con noi la tua Virtual Experience: scopri le novità negli eventi\, convention e corsi on line"
DESCRIPTION:Dettagli: https://www.confindustriaemilia.it/flex/cm/pages/ServeBLOB.php/L/IT/IDPagina/94628
LOCATION:Webinar -  - 
DTSTART:20210210T100000Z
DTEND:20210210T110000Z
DTSTAMP:20260419T211456Z
UID:69e545d0aa43c
END:VEVENT
END:VCALENDAR