BEGIN:VCALENDAR
VERSION:2.0
PRODID:-//hacksw/handcal//NONSGML v1.0//EN
CALSCALE:GREGORIAN
BEGIN:VEVENT
SUMMARY:"Associati per Associati": incontro "Il monitoraggio della qualità dell'aria (Indoor Air Quality) negli ambienti di vita e di lavoro"
DESCRIPTION:Dettagli: https://www.confindustriaemilia.it/flex/cm/pages/ServeBLOB.php/L/IT/IDPagina/93610
LOCATION:Webinar Teams - piattaforma - Microsoft Teams
DTSTART:20201021T090000Z
DTEND:20201021T100000Z
DTSTAMP:20260420T065140Z
UID:69e5ccfc87bf6
END:VEVENT
END:VCALENDAR