BEGIN:VCALENDAR
VERSION:2.0
PRODID:-//hacksw/handcal//NONSGML v1.0//EN
CALSCALE:GREGORIAN
BEGIN:VEVENT
SUMMARY:Associati per Associati EDENRED - Incontro "Welfare e buoni pasto: aggiornamenti normativi e strategie per imprese e territori"
DESCRIPTION:Dettagli: https://www.confindustriaemilia.it/flex/cm/pages/ServeBLOB.php/L/IT/IDPagina/107961
LOCATION:Confindustria Emilia Area Centro - Sede di Modena - via Bellinzona 27/a - Modena
DTSTART:20250612T090000Z
DTEND:20250612T103000Z
DTSTAMP:20260425T113028Z
UID:69eca5d49b97e
END:VEVENT
END:VCALENDAR