BEGIN:VCALENDAR
VERSION:2.0
PRODID:-//hacksw/handcal//NONSGML v1.0//EN
CALSCALE:GREGORIAN
BEGIN:VEVENT
SUMMARY:IMPRESE E FINANZA STRAORDINARIA Le esperienze in un mondo che cambia
DESCRIPTION:Dettagli: https://www.confindustriaemilia.it/flex/cm/pages/ServeBLOB.php/L/IT/IDPagina/94107
LOCATION:Webinar -  - 
DTSTART:20201202T170000Z
DTEND:20201202T180000Z
DTSTAMP:20260419T193556Z
UID:69e52e9c9a97e
END:VEVENT
END:VCALENDAR