BEGIN:VCALENDAR
VERSION:2.0
PRODID:-//hacksw/handcal//NONSGML v1.0//EN
CALSCALE:GREGORIAN
BEGIN:VEVENT
SUMMARY:Associati per Associati - POSTI ESAURITI - "SEMINARIO HSE AMBIENTI CONFINATI E ASSIMILABILI\, NUOVE ATTREZZATURE E PROCEDURE"
DESCRIPTION:Dettagli: https://www.confindustriaemilia.it/flex/cm/pages/ServeBLOB.php/L/IT/IDPagina/105400
LOCATION:
DTSTART:20240911T073000Z
DTEND:20240911T143000Z
DTSTAMP:20260420T204559Z
UID:69e6908739d86
END:VEVENT
END:VCALENDAR