BEGIN:VCALENDAR
VERSION:2.0
PRODID:-//hacksw/handcal//NONSGML v1.0//EN
CALSCALE:GREGORIAN
BEGIN:VEVENT
SUMMARY:"Associati per Associati": incontro "Il Futuro che ci attende"
DESCRIPTION:Dettagli: https://www.confindustriaemilia.it/flex/cm/pages/ServeBLOB.php/L/IT/IDPagina/93873
LOCATION:Webinar Teams - piattaforma - Microsoft Teams
DTSTART:20201111T133000Z
DTEND:20201111T150000Z
DTSTAMP:20260420T064922Z
UID:69e5cc7275a69
END:VEVENT
END:VCALENDAR