BEGIN:VCALENDAR
VERSION:2.0
PRODID:-//hacksw/handcal//NONSGML v1.0//EN
CALSCALE:GREGORIAN
BEGIN:VEVENT
SUMMARY:Presentazione della Piattaforma della Subfornitura
DESCRIPTION:Dettagli: https://www.confindustriaemilia.it/flex/cm/pages/ServeBLOB.php/L/IT/IDPagina/105841
LOCATION:Webinar Teams - piattaforma - Microsoft Teams
DTSTART:20241002T143000Z
DTEND:20241002T160000Z
DTSTAMP:20260420T202854Z
UID:69e68c8600f85
END:VEVENT
END:VCALENDAR