BEGIN:VCALENDAR
VERSION:2.0
PRODID:-//hacksw/handcal//NONSGML v1.0//EN
CALSCALE:GREGORIAN
BEGIN:VEVENT
SUMMARY:REMINDER: Stati Uniti d’America: Aspetti legali e fiscali di attualità per cogliere le opportunità
DESCRIPTION:Dettagli: https://www.confindustriaemilia.it/flex/cm/pages/ServeBLOB.php/L/IT/IDPagina/105159
LOCATION:Webinar Zoom - piattaforma - Zoom
DTSTART:20240626T073000Z
DTEND:20240626T103000Z
DTSTAMP:20260420T222503Z
UID:69e6a7bfb8c73
END:VEVENT
END:VCALENDAR